BEGIN:VCALENDAR
VERSION:2.0
CALSCALE:GREGORIAN
PRODID:-//Diputació de Barcelona//DibaCMS//EN
BEGIN:VEVENT
UID:22846
DTSTAMP:20260423T232613
DTSTART:20100516T100000
DTEND:20100516T000000
SUMMARY:Música i natura la bosquet del Cupido
LOCATION:
METHOD:PUBLISH
X-WR-CALNAME:e-seu@ajpiera.cat
X-WR-TIMEZONE:Europe/Madrid
DESCRIPTION:Música i natura la bosquet del Cupido
URI:https://www.viladepiera.cat/actualitat/agenda/musica-i-natura-la-bosquet-del-cupido.html
CLASS:PUBLIC
END:VEVENT
END:VCALENDAR
