BEGIN:VCALENDAR
VERSION:2.0
CALSCALE:GREGORIAN
PRODID:-//Diputació de Barcelona//DibaCMS//EN
BEGIN:VEVENT
UID:22849
DTSTAMP:20260424T003204
DTSTART:20100520T190000
DTEND:20100520T000000
SUMMARY:Quina teràpia natural escollir?
LOCATION:
METHOD:PUBLISH
X-WR-CALNAME:e-seu@ajpiera.cat
X-WR-TIMEZONE:Europe/Madrid
DESCRIPTION:Quina teràpia natural escollir?
URI:https://www.viladepiera.cat/actualitat/agenda/quina-terapia-natural-escollir.html
CLASS:PUBLIC
END:VEVENT
END:VCALENDAR
