BEGIN:VCALENDAR
VERSION:2.0
CALSCALE:GREGORIAN
PRODID:-//Diputació de Barcelona//DibaCMS//EN
BEGIN:VEVENT
UID:22862
DTSTAMP:20260424T031536
DTSTART:20100527T193000
DTEND:20100527T000000
SUMMARY:Àsia amb ulls de periodista
LOCATION:
METHOD:PUBLISH
X-WR-CALNAME:e-seu@ajpiera.cat
X-WR-TIMEZONE:Europe/Madrid
DESCRIPTION:Àsia amb ulls de periodista
URI:https://www.viladepiera.cat/actualitat/agenda/asia-amb-ulls-de-periodista.html
CLASS:PUBLIC
END:VEVENT
END:VCALENDAR
