BEGIN:VCALENDAR
VERSION:2.0
CALSCALE:GREGORIAN
PRODID:-//Diputació de Barcelona//DibaCMS//EN
BEGIN:VEVENT
UID:22863
DTSTAMP:20260424T031246
DTSTART:20100527T180000
DTEND:20100527T000000
SUMMARY:Hora del conte: Música dibuixada
LOCATION:
METHOD:PUBLISH
X-WR-CALNAME:e-seu@ajpiera.cat
X-WR-TIMEZONE:Europe/Madrid
DESCRIPTION:Hora del conte: Música dibuixada
URI:https://www.viladepiera.cat/actualitat/agenda/hora-del-conte-musica-dibuixada.html
CLASS:PUBLIC
END:VEVENT
END:VCALENDAR
