BEGIN:VCALENDAR
VERSION:2.0
CALSCALE:GREGORIAN
PRODID:-//Diputació de Barcelona//DibaCMS//EN
BEGIN:VEVENT
UID:22864
DTSTAMP:20260424T015957
DTSTART:20100528T230000
DTEND:20100528T000000
SUMMARY:Cerkalades
LOCATION:
METHOD:PUBLISH
X-WR-CALNAME:e-seu@ajpiera.cat
X-WR-TIMEZONE:Europe/Madrid
DESCRIPTION:Cerkalades
URI:https://www.viladepiera.cat/actualitat/agenda/22864-cerkalades.html
CLASS:PUBLIC
END:VEVENT
END:VCALENDAR
