BEGIN:VCALENDAR
VERSION:2.0
CALSCALE:GREGORIAN
PRODID:-//Diputació de Barcelona//DibaCMS//EN
BEGIN:VEVENT
UID:22866
DTSTAMP:20260424T020110
DTSTART:20100528T200000
DTEND:20100528T000000
SUMMARY:Audició d'adults i recital de guitarra
LOCATION:
METHOD:PUBLISH
X-WR-CALNAME:e-seu@ajpiera.cat
X-WR-TIMEZONE:Europe/Madrid
DESCRIPTION:Audició d'adults i recital de guitarra
URI:https://www.viladepiera.cat/actualitat/agenda/22866-audicio-dadults-i-recital-de-guitarra.html
CLASS:PUBLIC
END:VEVENT
END:VCALENDAR
