BEGIN:VCALENDAR
VERSION:2.0
CALSCALE:GREGORIAN
PRODID:-//Diputació de Barcelona//DibaCMS//EN
BEGIN:VEVENT
UID:22867
DTSTAMP:20260424T031044
DTSTART:20100528T193000
DTEND:20100528T000000
SUMMARY:Duran i Lleida
LOCATION:
METHOD:PUBLISH
X-WR-CALNAME:e-seu@ajpiera.cat
X-WR-TIMEZONE:Europe/Madrid
DESCRIPTION:Duran i Lleida
URI:https://www.viladepiera.cat/actualitat/agenda/duran-i-lleida.html
CLASS:PUBLIC
END:VEVENT
END:VCALENDAR
