BEGIN:VCALENDAR
VERSION:2.0
CALSCALE:GREGORIAN
PRODID:-//Diputació de Barcelona//DibaCMS//EN
BEGIN:VEVENT
UID:22868
DTSTAMP:20260424T020018
DTSTART:20100528T000000
DTEND:20100528T000000
SUMMARY:Dia Internacional Nutrició
LOCATION:
METHOD:PUBLISH
X-WR-CALNAME:e-seu@ajpiera.cat
X-WR-TIMEZONE:Europe/Madrid
DESCRIPTION:Dia Internacional Nutrició
URI:https://www.viladepiera.cat/actualitat/agenda/dia-internacional-nutricio.html
CLASS:PUBLIC
END:VEVENT
END:VCALENDAR
