BEGIN:VCALENDAR
VERSION:2.0
CALSCALE:GREGORIAN
PRODID:-//Diputació de Barcelona//DibaCMS//EN
BEGIN:VEVENT
UID:22872
DTSTAMP:20260424T030431
DTSTART:20100530T093000
DTEND:20100530T000000
SUMMARY:Passejada en bici a la font d'en Sala
LOCATION:
METHOD:PUBLISH
X-WR-CALNAME:e-seu@ajpiera.cat
X-WR-TIMEZONE:Europe/Madrid
DESCRIPTION:Passejada en bici a la font d'en Sala
URI:https://www.viladepiera.cat/actualitat/agenda/passejada-en-bici-a-la-font-den-sala.html
CLASS:PUBLIC
END:VEVENT
END:VCALENDAR
