BEGIN:VCALENDAR
VERSION:2.0
CALSCALE:GREGORIAN
PRODID:-//Diputació de Barcelona//DibaCMS//EN
BEGIN:VEVENT
UID:22874
DTSTAMP:20260423T232057
DTSTART:20100530T100000
DTEND:20100530T000000
SUMMARY:Esglésies i ermites de la nostra història
LOCATION:
METHOD:PUBLISH
X-WR-CALNAME:e-seu@ajpiera.cat
X-WR-TIMEZONE:Europe/Madrid
DESCRIPTION:Esglésies i ermites de la nostra història
URI:https://www.viladepiera.cat/actualitat/agenda/22874-esglesies-i-ermites-de-la-nostra-historia.html
CLASS:PUBLIC
END:VEVENT
END:VCALENDAR
