BEGIN:VCALENDAR
VERSION:2.0
CALSCALE:GREGORIAN
PRODID:-//Diputació de Barcelona//DibaCMS//EN
BEGIN:VEVENT
UID:22875
DTSTAMP:20260424T004644
DTSTART:20100530T180000
DTEND:20100530T000000
SUMMARY:Cinèfils: Una habitación con vistas
LOCATION:
METHOD:PUBLISH
X-WR-CALNAME:e-seu@ajpiera.cat
X-WR-TIMEZONE:Europe/Madrid
DESCRIPTION:Cinèfils: Una habitación con vistas
URI:https://www.viladepiera.cat/actualitat/agenda/cinefils-una-habitacion-con-vistas.html
CLASS:PUBLIC
END:VEVENT
END:VCALENDAR
