BEGIN:VCALENDAR
VERSION:2.0
CALSCALE:GREGORIAN
PRODID:-//Diputació de Barcelona//DibaCMS//EN
BEGIN:VEVENT
UID:22876
DTSTAMP:20260423T231304
DTSTART:20100602T190000
DTEND:20100602T000000
SUMMARY:Xerrada: Vacunes sí, vacunes no
LOCATION:
METHOD:PUBLISH
X-WR-CALNAME:e-seu@ajpiera.cat
X-WR-TIMEZONE:Europe/Madrid
DESCRIPTION:Xerrada: Vacunes sí, vacunes no
URI:https://www.viladepiera.cat/actualitat/agenda/xerrada-vacunes-si-vacunes-no.html
CLASS:PUBLIC
END:VEVENT
END:VCALENDAR
