BEGIN:VCALENDAR
VERSION:2.0
CALSCALE:GREGORIAN
PRODID:-//Diputació de Barcelona//DibaCMS//EN
BEGIN:VEVENT
UID:22878
DTSTAMP:20260423T230712
DTSTART:20100604T000000
DTEND:20100606T000000
SUMMARY:Festa del Rocio a Can Mas
LOCATION:
METHOD:PUBLISH
X-WR-CALNAME:e-seu@ajpiera.cat
X-WR-TIMEZONE:Europe/Madrid
DESCRIPTION:Festa del Rocio a Can Mas
URI:https://www.viladepiera.cat/actualitat/agenda/festa-del-rocio-a-can-mas.html
CLASS:PUBLIC
END:VEVENT
END:VCALENDAR
