BEGIN:VCALENDAR
VERSION:2.0
CALSCALE:GREGORIAN
PRODID:-//Diputació de Barcelona//DibaCMS//EN
BEGIN:VEVENT
UID:22879
DTSTAMP:20260423T220629
DTSTART:20100605T210000
DTEND:20100605T000000
SUMMARY:Sopar d'amics de la ràdio
LOCATION:
METHOD:PUBLISH
X-WR-CALNAME:e-seu@ajpiera.cat
X-WR-TIMEZONE:Europe/Madrid
DESCRIPTION:Sopar d'amics de la ràdio
URI:https://www.viladepiera.cat/actualitat/agenda/sopar-damics-de-la-radio.html
CLASS:PUBLIC
END:VEVENT
END:VCALENDAR
