BEGIN:VCALENDAR
VERSION:2.0
CALSCALE:GREGORIAN
PRODID:-//Diputació de Barcelona//DibaCMS//EN
BEGIN:VEVENT
UID:22881
DTSTAMP:20260424T102716
DTSTART:20100606T000000
DTEND:20100606T000000
SUMMARY:Ral·li cotxes d'època
LOCATION:
METHOD:PUBLISH
X-WR-CALNAME:e-seu@ajpiera.cat
X-WR-TIMEZONE:Europe/Madrid
DESCRIPTION:Ral·li cotxes d'època
URI:https://www.viladepiera.cat/actualitat/agenda/ralli-cotxes-depoca.html
CLASS:PUBLIC
END:VEVENT
END:VCALENDAR
