BEGIN:VCALENDAR
VERSION:2.0
CALSCALE:GREGORIAN
PRODID:-//Diputació de Barcelona//DibaCMS//EN
BEGIN:VEVENT
UID:22882
DTSTAMP:20260424T011628
DTSTART:20100608T180000
DTEND:20100608T000000
SUMMARY:Parella lingüística
LOCATION:
METHOD:PUBLISH
X-WR-CALNAME:e-seu@ajpiera.cat
X-WR-TIMEZONE:Europe/Madrid
DESCRIPTION:Parella lingüística
URI:https://www.viladepiera.cat/actualitat/agenda/parella-linguistica.html
CLASS:PUBLIC
END:VEVENT
END:VCALENDAR
