BEGIN:VCALENDAR
VERSION:2.0
CALSCALE:GREGORIAN
PRODID:-//Diputació de Barcelona//DibaCMS//EN
BEGIN:VEVENT
UID:22883
DTSTAMP:20260423T203347
DTSTART:20100609T180000
DTEND:20100609T000000
SUMMARY:Titelles per a infants
LOCATION:
METHOD:PUBLISH
X-WR-CALNAME:e-seu@ajpiera.cat
X-WR-TIMEZONE:Europe/Madrid
DESCRIPTION:Titelles per a infants
URI:https://www.viladepiera.cat/actualitat/agenda/titelles-per-a-infants.html
CLASS:PUBLIC
END:VEVENT
END:VCALENDAR
