BEGIN:VCALENDAR
VERSION:2.0
CALSCALE:GREGORIAN
PRODID:-//Diputació de Barcelona//DibaCMS//EN
BEGIN:VEVENT
UID:22885
DTSTAMP:20260423T003948
DTSTART:20100611T000000
DTEND:20100613T000000
SUMMARY:Festa del Barri de les Àrpies
LOCATION:
METHOD:PUBLISH
X-WR-CALNAME:e-seu@ajpiera.cat
X-WR-TIMEZONE:Europe/Madrid
DESCRIPTION:Festa del Barri de les Àrpies
URI:https://www.viladepiera.cat/actualitat/agenda/festa-del-barri-de-les-arpies.html
CLASS:PUBLIC
END:VEVENT
END:VCALENDAR
