BEGIN:VCALENDAR
VERSION:2.0
CALSCALE:GREGORIAN
PRODID:-//Diputació de Barcelona//DibaCMS//EN
BEGIN:VEVENT
UID:22888
DTSTAMP:20260424T173757
DTSTART:20100613T000000
DTEND:20100613T000000
SUMMARY:Excursió a Montserrat
LOCATION:
METHOD:PUBLISH
X-WR-CALNAME:e-seu@ajpiera.cat
X-WR-TIMEZONE:Europe/Madrid
DESCRIPTION:Excursió a Montserrat
URI:https://www.viladepiera.cat/actualitat/agenda/excursio-a-montserrat.html
CLASS:PUBLIC
END:VEVENT
END:VCALENDAR
