BEGIN:VCALENDAR
VERSION:2.0
CALSCALE:GREGORIAN
PRODID:-//Diputació de Barcelona//DibaCMS//EN
BEGIN:VEVENT
UID:22894
DTSTAMP:20260424T000243
DTSTART:20100618T223000
DTEND:20100618T000000
SUMMARY:3a ruta dels músics
LOCATION:
METHOD:PUBLISH
X-WR-CALNAME:e-seu@ajpiera.cat
X-WR-TIMEZONE:Europe/Madrid
DESCRIPTION:3a ruta dels músics
URI:https://www.viladepiera.cat/actualitat/agenda/3a-ruta-dels-musics.html
CLASS:PUBLIC
END:VEVENT
END:VCALENDAR
