BEGIN:VCALENDAR
VERSION:2.0
CALSCALE:GREGORIAN
PRODID:-//Diputació de Barcelona//DibaCMS//EN
BEGIN:VEVENT
UID:22900
DTSTAMP:20260423T210117
DTSTART:20100626T000000
DTEND:20100627T000000
SUMMARY:Festa del Barri Unificat
LOCATION:
METHOD:PUBLISH
X-WR-CALNAME:e-seu@ajpiera.cat
X-WR-TIMEZONE:Europe/Madrid
DESCRIPTION:Festa del Barri Unificat
URI:https://www.viladepiera.cat/actualitat/agenda/festa-del-barri-unificat.html
CLASS:PUBLIC
END:VEVENT
END:VCALENDAR
