BEGIN:VCALENDAR
VERSION:2.0
CALSCALE:GREGORIAN
PRODID:-//Diputació de Barcelona//DibaCMS//EN
BEGIN:VEVENT
UID:22901
DTSTAMP:20260424T044209
DTSTART:20100626T180000
DTEND:20100626T000000
SUMMARY:Pirenques: Posta de sol al camí Romeu
LOCATION:
METHOD:PUBLISH
X-WR-CALNAME:e-seu@ajpiera.cat
X-WR-TIMEZONE:Europe/Madrid
DESCRIPTION:Pirenques: Posta de sol al camí Romeu
URI:https://www.viladepiera.cat/actualitat/agenda/pirenques-posta-de-sol-al-cami-romeu.html
CLASS:PUBLIC
END:VEVENT
END:VCALENDAR
