BEGIN:VCALENDAR
VERSION:2.0
CALSCALE:GREGORIAN
PRODID:-//Diputació de Barcelona//DibaCMS//EN
BEGIN:VEVENT
UID:22905
DTSTAMP:20260423T194459
DTSTART:20100627T183000
DTEND:20100627T000000
SUMMARY:Festa Ballestea
LOCATION:
METHOD:PUBLISH
X-WR-CALNAME:e-seu@ajpiera.cat
X-WR-TIMEZONE:Europe/Madrid
DESCRIPTION:Festa Ballestea
URI:https://www.viladepiera.cat/actualitat/agenda/22905-festa-ballestea.html
CLASS:PUBLIC
END:VEVENT
END:VCALENDAR
