BEGIN:VCALENDAR
VERSION:2.0
CALSCALE:GREGORIAN
PRODID:-//Diputació de Barcelona//DibaCMS//EN
BEGIN:VEVENT
UID:22911
DTSTAMP:20260423T194534
DTSTART:20100703T090000
DTEND:20100703T000000
SUMMARY:Torneig Tennis Taula
LOCATION:
METHOD:PUBLISH
X-WR-CALNAME:e-seu@ajpiera.cat
X-WR-TIMEZONE:Europe/Madrid
DESCRIPTION:Torneig Tennis Taula
URI:https://www.viladepiera.cat/actualitat/agenda/torneig-tennis-taula.html
CLASS:PUBLIC
END:VEVENT
END:VCALENDAR
