BEGIN:VCALENDAR
VERSION:2.0
CALSCALE:GREGORIAN
PRODID:-//Diputació de Barcelona//DibaCMS//EN
BEGIN:VEVENT
UID:22912
DTSTAMP:20260424T001323
DTSTART:20100703T000000
DTEND:20100704T000000
SUMMARY:Racó de les Fades
LOCATION:
METHOD:PUBLISH
X-WR-CALNAME:e-seu@ajpiera.cat
X-WR-TIMEZONE:Europe/Madrid
DESCRIPTION:Racó de les Fades
URI:https://www.viladepiera.cat/actualitat/agenda/raco-de-les-fades.html
CLASS:PUBLIC
END:VEVENT
END:VCALENDAR
