BEGIN:VCALENDAR
VERSION:2.0
CALSCALE:GREGORIAN
PRODID:-//Diputació de Barcelona//DibaCMS//EN
BEGIN:VEVENT
UID:22914
DTSTAMP:20260424T034110
DTSTART:20100709T000000
DTEND:20100709T000000
SUMMARY:Festa Gallega Can Mas
LOCATION:
METHOD:PUBLISH
X-WR-CALNAME:e-seu@ajpiera.cat
X-WR-TIMEZONE:Europe/Madrid
DESCRIPTION:Festa Gallega Can Mas
URI:https://www.viladepiera.cat/actualitat/agenda/festa-gallega-can-mas.html
CLASS:PUBLIC
END:VEVENT
END:VCALENDAR
