BEGIN:VCALENDAR
VERSION:2.0
CALSCALE:GREGORIAN
PRODID:-//Diputació de Barcelona//DibaCMS//EN
BEGIN:VEVENT
UID:22916
DTSTAMP:20260423T213639
DTSTART:20100709T000000
DTEND:20100711T000000
SUMMARY:1a Mostra de tallers de teatre
LOCATION:
METHOD:PUBLISH
X-WR-CALNAME:e-seu@ajpiera.cat
X-WR-TIMEZONE:Europe/Madrid
DESCRIPTION:1a Mostra de tallers de teatre
URI:https://www.viladepiera.cat/actualitat/agenda/22916-1a-mostra-de-tallers-de-teatre.html
CLASS:PUBLIC
END:VEVENT
END:VCALENDAR
