BEGIN:VCALENDAR
VERSION:2.0
CALSCALE:GREGORIAN
PRODID:-//Diputació de Barcelona//DibaCMS//EN
BEGIN:VEVENT
UID:22917
DTSTAMP:20260424T162119
DTSTART:20100710T000000
DTEND:20100710T000000
SUMMARY:Neteja dels boscos de la Venta
LOCATION:
METHOD:PUBLISH
X-WR-CALNAME:e-seu@ajpiera.cat
X-WR-TIMEZONE:Europe/Madrid
DESCRIPTION:Neteja dels boscos de la Venta
URI:https://www.viladepiera.cat/actualitat/agenda/neteja-dels-boscos-de-la-venta.html
CLASS:PUBLIC
END:VEVENT
END:VCALENDAR
