BEGIN:VCALENDAR
VERSION:2.0
CALSCALE:GREGORIAN
PRODID:-//Diputació de Barcelona//DibaCMS//EN
BEGIN:VEVENT
UID:22920
DTSTAMP:20260423T235145
DTSTART:20100710T220000
DTEND:20100710T000000
SUMMARY:Festival de Patinatge
LOCATION:
METHOD:PUBLISH
X-WR-CALNAME:e-seu@ajpiera.cat
X-WR-TIMEZONE:Europe/Madrid
DESCRIPTION:Festival de Patinatge
URI:https://www.viladepiera.cat/actualitat/agenda/22920-festival-de-patinatge.html
CLASS:PUBLIC
END:VEVENT
END:VCALENDAR
