BEGIN:VCALENDAR
VERSION:2.0
CALSCALE:GREGORIAN
PRODID:-//Diputació de Barcelona//DibaCMS//EN
BEGIN:VEVENT
UID:22923
DTSTAMP:20260423T191016
DTSTART:20100714T160000
DTEND:20100714T200000
SUMMARY:Reunió informativa mosquit tigre
LOCATION:
METHOD:PUBLISH
X-WR-CALNAME:e-seu@ajpiera.cat
X-WR-TIMEZONE:Europe/Madrid
DESCRIPTION:Reunió informativa mosquit tigre
URI:https://www.viladepiera.cat/actualitat/agenda/22923-reunio-informativa-mosquit-tigre.html
CLASS:PUBLIC
END:VEVENT
END:VCALENDAR
