BEGIN:VCALENDAR
VERSION:2.0
CALSCALE:GREGORIAN
PRODID:-//Diputació de Barcelona//DibaCMS//EN
BEGIN:VEVENT
UID:22927
DTSTAMP:20260424T030303
DTSTART:20100716T000000
DTEND:20100717T000000
SUMMARY:Festa del Portell
LOCATION:
METHOD:PUBLISH
X-WR-CALNAME:e-seu@ajpiera.cat
X-WR-TIMEZONE:Europe/Madrid
DESCRIPTION:Festa del Portell
URI:https://www.viladepiera.cat/actualitat/agenda/festa-del-portell.html
CLASS:PUBLIC
END:VEVENT
END:VCALENDAR
