BEGIN:VCALENDAR
VERSION:2.0
CALSCALE:GREGORIAN
PRODID:-//Diputació de Barcelona//DibaCMS//EN
BEGIN:VEVENT
UID:22928
DTSTAMP:20260423T224544
DTSTART:20100716T000000
DTEND:20100718T000000
SUMMARY:Festa de la Plana
LOCATION:
METHOD:PUBLISH
X-WR-CALNAME:e-seu@ajpiera.cat
X-WR-TIMEZONE:Europe/Madrid
DESCRIPTION:Festa de la Plana
URI:https://www.viladepiera.cat/actualitat/agenda/festa-de-la-plana.html
CLASS:PUBLIC
END:VEVENT
END:VCALENDAR
