BEGIN:VCALENDAR
VERSION:2.0
CALSCALE:GREGORIAN
PRODID:-//Diputació de Barcelona//DibaCMS//EN
BEGIN:VEVENT
UID:22936
DTSTAMP:20260424T000319
DTSTART:20100723T220000
DTEND:20100723T000000
SUMMARY:MEV10: Adolfo Osta 
LOCATION:
METHOD:PUBLISH
X-WR-CALNAME:e-seu@ajpiera.cat
X-WR-TIMEZONE:Europe/Madrid
DESCRIPTION:MEV10: Adolfo Osta 
URI:https://www.viladepiera.cat/actualitat/agenda/mev10-adolfo-osta-.html
CLASS:PUBLIC
END:VEVENT
END:VCALENDAR
