BEGIN:VCALENDAR
VERSION:2.0
CALSCALE:GREGORIAN
PRODID:-//Diputació de Barcelona//DibaCMS//EN
BEGIN:VEVENT
UID:22938
DTSTAMP:20260423T230415
DTSTART:20100724T000000
DTEND:20100725T000000
SUMMARY:Festa del Bosc de l'Àliga
LOCATION:
METHOD:PUBLISH
X-WR-CALNAME:e-seu@ajpiera.cat
X-WR-TIMEZONE:Europe/Madrid
DESCRIPTION:Festa del Bosc de l'Àliga
URI:https://www.viladepiera.cat/actualitat/agenda/festa-del-bosc-de-laliga.html
CLASS:PUBLIC
END:VEVENT
END:VCALENDAR
