BEGIN:VCALENDAR
VERSION:2.0
CALSCALE:GREGORIAN
PRODID:-//Diputació de Barcelona//DibaCMS//EN
BEGIN:VEVENT
UID:22939
DTSTAMP:20260423T202116
DTSTART:20100724T220000
DTEND:20100724T000000
SUMMARY:Sortida de nit al castell de Fang
LOCATION:
METHOD:PUBLISH
X-WR-CALNAME:e-seu@ajpiera.cat
X-WR-TIMEZONE:Europe/Madrid
DESCRIPTION:Sortida de nit al castell de Fang
URI:https://www.viladepiera.cat/actualitat/agenda/sortida-de-nit-al-castell-de-fang.html
CLASS:PUBLIC
END:VEVENT
END:VCALENDAR
