BEGIN:VCALENDAR
VERSION:2.0
CALSCALE:GREGORIAN
PRODID:-//Diputació de Barcelona//DibaCMS//EN
BEGIN:VEVENT
UID:22940
DTSTAMP:20260423T181025
DTSTART:20100726T220000
DTEND:20100730T000000
SUMMARY:III Setmana del Terror
LOCATION:
METHOD:PUBLISH
X-WR-CALNAME:e-seu@ajpiera.cat
X-WR-TIMEZONE:Europe/Madrid
DESCRIPTION:III Setmana del Terror
URI:https://www.viladepiera.cat/actualitat/agenda/22940-iii-setmana-del-terror.html
CLASS:PUBLIC
END:VEVENT
END:VCALENDAR
