BEGIN:VCALENDAR
VERSION:2.0
CALSCALE:GREGORIAN
PRODID:-//Diputació de Barcelona//DibaCMS//EN
BEGIN:VEVENT
UID:22941
DTSTAMP:20260423T220004
DTSTART:20100728T210000
DTEND:20100728T000000
SUMMARY:Ple Ordinari
LOCATION:
METHOD:PUBLISH
X-WR-CALNAME:e-seu@ajpiera.cat
X-WR-TIMEZONE:Europe/Madrid
DESCRIPTION:Ple Ordinari
URI:https://www.viladepiera.cat/actualitat/agenda/22941-ple-ordinari.html
CLASS:PUBLIC
END:VEVENT
END:VCALENDAR
