BEGIN:VCALENDAR
VERSION:2.0
CALSCALE:GREGORIAN
PRODID:-//Diputació de Barcelona//DibaCMS//EN
BEGIN:VEVENT
UID:22942
DTSTAMP:20260423T193633
DTSTART:20100729T190000
DTEND:20100729T000000
SUMMARY:Incendis Forestals
LOCATION:
METHOD:PUBLISH
X-WR-CALNAME:e-seu@ajpiera.cat
X-WR-TIMEZONE:Europe/Madrid
DESCRIPTION:Incendis Forestals
URI:https://www.viladepiera.cat/actualitat/agenda/incendis-forestals.html
CLASS:PUBLIC
END:VEVENT
END:VCALENDAR
