BEGIN:VCALENDAR
VERSION:2.0
CALSCALE:GREGORIAN
PRODID:-//Diputació de Barcelona//DibaCMS//EN
BEGIN:VEVENT
UID:22944
DTSTAMP:20260423T193532
DTSTART:20100730T220000
DTEND:20100730T000000
SUMMARY:MEV10: Jazz
LOCATION:
METHOD:PUBLISH
X-WR-CALNAME:e-seu@ajpiera.cat
X-WR-TIMEZONE:Europe/Madrid
DESCRIPTION:MEV10: Jazz
URI:https://www.viladepiera.cat/actualitat/agenda/mev10-jazz.html
CLASS:PUBLIC
END:VEVENT
END:VCALENDAR
