BEGIN:VCALENDAR
VERSION:2.0
CALSCALE:GREGORIAN
PRODID:-//Diputació de Barcelona//DibaCMS//EN
BEGIN:VEVENT
UID:22945
DTSTAMP:20260423T193344
DTSTART:20100731T000000
DTEND:20100807T000000
SUMMARY:Festa de Can Claramunt
LOCATION:
METHOD:PUBLISH
X-WR-CALNAME:e-seu@ajpiera.cat
X-WR-TIMEZONE:Europe/Madrid
DESCRIPTION:Festa de Can Claramunt
URI:https://www.viladepiera.cat/actualitat/agenda/festa-de-can-claramunt.html
CLASS:PUBLIC
END:VEVENT
END:VCALENDAR
