BEGIN:VCALENDAR
VERSION:2.0
CALSCALE:GREGORIAN
PRODID:-//Diputació de Barcelona//DibaCMS//EN
BEGIN:VEVENT
UID:22947
DTSTAMP:20260423T220040
DTSTART:20100731T170000
DTEND:20100731T000000
SUMMARY:Festa d'estiu Can Mas
LOCATION:
METHOD:PUBLISH
X-WR-CALNAME:e-seu@ajpiera.cat
X-WR-TIMEZONE:Europe/Madrid
DESCRIPTION:Festa d'estiu Can Mas
URI:https://www.viladepiera.cat/actualitat/agenda/festa-destiu-can-mas.html
CLASS:PUBLIC
END:VEVENT
END:VCALENDAR
