BEGIN:VCALENDAR
VERSION:2.0
CALSCALE:GREGORIAN
PRODID:-//Diputació de Barcelona//DibaCMS//EN
BEGIN:VEVENT
UID:22948
DTSTAMP:20260423T194051
DTSTART:20100731T000000
DTEND:20100731T000000
SUMMARY:Castell de la Ventosa B
LOCATION:
METHOD:PUBLISH
X-WR-CALNAME:e-seu@ajpiera.cat
X-WR-TIMEZONE:Europe/Madrid
DESCRIPTION:Castell de la Ventosa B
URI:https://www.viladepiera.cat/actualitat/agenda/castell-de-la-ventosa-b.html
CLASS:PUBLIC
END:VEVENT
END:VCALENDAR
