BEGIN:VCALENDAR
VERSION:2.0
CALSCALE:GREGORIAN
PRODID:-//Diputació de Barcelona//DibaCMS//EN
BEGIN:VEVENT
UID:22950
DTSTAMP:20260423T195120
DTSTART:20100731T180000
DTEND:20100731T000000
SUMMARY:Inauguració Torrent Gall Mullat
LOCATION:
METHOD:PUBLISH
X-WR-CALNAME:e-seu@ajpiera.cat
X-WR-TIMEZONE:Europe/Madrid
DESCRIPTION:Inauguració Torrent Gall Mullat
URI:https://www.viladepiera.cat/actualitat/agenda/inauguracio-torrent-gall-mullat.html
CLASS:PUBLIC
END:VEVENT
END:VCALENDAR
