BEGIN:VCALENDAR
VERSION:2.0
CALSCALE:GREGORIAN
PRODID:-//Diputació de Barcelona//DibaCMS//EN
BEGIN:VEVENT
UID:22953
DTSTAMP:20260423T190221
DTSTART:20100806T223000
DTEND:20100806T000000
SUMMARY:En nom de Misae
LOCATION:
METHOD:PUBLISH
X-WR-CALNAME:e-seu@ajpiera.cat
X-WR-TIMEZONE:Europe/Madrid
DESCRIPTION:En nom de Misae
URI:https://www.viladepiera.cat/actualitat/agenda/en-nom-de-misae.html
CLASS:PUBLIC
END:VEVENT
END:VCALENDAR
