BEGIN:VCALENDAR
VERSION:2.0
CALSCALE:GREGORIAN
PRODID:-//Diputació de Barcelona//DibaCMS//EN
BEGIN:VEVENT
UID:22954
DTSTAMP:20260423T214055
DTSTART:20100807T180000
DTEND:20100807T210000
SUMMARY:Acapte a Can Canals
LOCATION:
METHOD:PUBLISH
X-WR-CALNAME:e-seu@ajpiera.cat
X-WR-TIMEZONE:Europe/Madrid
DESCRIPTION:Acapte a Can Canals
URI:https://www.viladepiera.cat/actualitat/agenda/22954-acapte-a-can-canals.html
CLASS:PUBLIC
END:VEVENT
END:VCALENDAR
