BEGIN:VCALENDAR
VERSION:2.0
CALSCALE:GREGORIAN
PRODID:-//Diputació de Barcelona//DibaCMS//EN
BEGIN:VEVENT
UID:22956
DTSTAMP:20260424T005813
DTSTART:20100808T103000
DTEND:20100808T000000
SUMMARY:Cor Parroquial a La 2
LOCATION:
METHOD:PUBLISH
X-WR-CALNAME:e-seu@ajpiera.cat
X-WR-TIMEZONE:Europe/Madrid
DESCRIPTION:Cor Parroquial a La 2
URI:https://www.viladepiera.cat/actualitat/agenda/cor-parroquial-a-la-2.html
CLASS:PUBLIC
END:VEVENT
END:VCALENDAR
