BEGIN:VCALENDAR
VERSION:2.0
CALSCALE:GREGORIAN
PRODID:-//Diputació de Barcelona//DibaCMS//EN
BEGIN:VEVENT
UID:22957
DTSTAMP:20260423T214612
DTSTART:20100813T220000
DTEND:20100813T000000
SUMMARY:Bany sota les estrelles
LOCATION:
METHOD:PUBLISH
X-WR-CALNAME:e-seu@ajpiera.cat
X-WR-TIMEZONE:Europe/Madrid
DESCRIPTION:Bany sota les estrelles
URI:https://www.viladepiera.cat/actualitat/agenda/22957-bany-sota-les-estrelles.html
CLASS:PUBLIC
END:VEVENT
END:VCALENDAR
