BEGIN:VCALENDAR
VERSION:2.0
CALSCALE:GREGORIAN
PRODID:-//Diputació de Barcelona//DibaCMS//EN
BEGIN:VEVENT
UID:22959
DTSTAMP:20260424T000923
DTSTART:20100820T000000
DTEND:20100822T000000
SUMMARY:3r Torneig Futbol Sorra
LOCATION:
METHOD:PUBLISH
X-WR-CALNAME:e-seu@ajpiera.cat
X-WR-TIMEZONE:Europe/Madrid
DESCRIPTION:3r Torneig Futbol Sorra
URI:https://www.viladepiera.cat/actualitat/agenda/3r-torneig-futbol-sorra.html
CLASS:PUBLIC
END:VEVENT
END:VCALENDAR
