BEGIN:VCALENDAR
VERSION:2.0
CALSCALE:GREGORIAN
PRODID:-//Diputació de Barcelona//DibaCMS//EN
BEGIN:VEVENT
UID:22963
DTSTAMP:20260423T174500
DTSTART:20100828T223000
DTEND:20100828T000000
SUMMARY:Sopar Can Mata
LOCATION:
METHOD:PUBLISH
X-WR-CALNAME:e-seu@ajpiera.cat
X-WR-TIMEZONE:Europe/Madrid
DESCRIPTION:Sopar Can Mata
URI:https://www.viladepiera.cat/actualitat/agenda/sopar-can-mata.html
CLASS:PUBLIC
END:VEVENT
END:VCALENDAR
