BEGIN:VCALENDAR
VERSION:2.0
CALSCALE:GREGORIAN
PRODID:-//Diputació de Barcelona//DibaCMS//EN
BEGIN:VEVENT
UID:22964
DTSTAMP:20260424T000837
DTSTART:20100901T190000
DTEND:20100901T000000
SUMMARY:Xerrades: Seguretat als barris
LOCATION:
METHOD:PUBLISH
X-WR-CALNAME:e-seu@ajpiera.cat
X-WR-TIMEZONE:Europe/Madrid
DESCRIPTION:Xerrades: Seguretat als barris
URI:https://www.viladepiera.cat/actualitat/agenda/xerrades-seguretat-als-barris.html
CLASS:PUBLIC
END:VEVENT
END:VCALENDAR
